BEGIN:VCALENDAR
VERSION:2.0
METHOD:PUBLISH
CALSCALE:GREGORIAN
PRODID:-//Refresh Web Development//Helios Calendar//EN
X-FROM-URL:https://www.bayareascience.org/calendar/index.php?com=details&eID=33739
X-WR-RELCALID:BayAreaScience.org After Dark: Trans Day of Visibility 20230330T180000
X-WR-TIMEZONE:America/New_York
X-WR-CALNAME:BayAreaScience.org
BEGIN:VEVENT
URL;VALUE=URI:https://www.bayareascience.org/calendar/index.php?com=detail&eID=33739
DTSTART:20230330T180000
DTEND:20230330T220000
SUMMARY:After Dark: Trans Day of Visibility
DESCRIPTION:Celebrated on March 31\, Transgender Day of Visibility is an international day of awareness that highlights transgender achievements and greatness in response to intentional exclusion of transgender...\n______________________________\nThis Event Downloaded From a Helios Calendar Powered Site
LOCATION:ExplOratorium - Pier 15 (Embarcadero at Green Street)  \, San Francisco\, CA USA 94111
CATEGORIES:BayAreaScience.org Events
PRIORITY:0
TRANSP:TRANSPARENT
END:VEVENT
END:VCALENDAR