BEGIN:VCALENDAR
VERSION:2.0
METHOD:PUBLISH
CALSCALE:GREGORIAN
PRODID:-//Refresh Web Development//Helios Calendar//EN
X-FROM-URL:https://www.bayareascience.org/calendar/index.php?com=details&eID=33740
X-WR-RELCALID:BayAreaScience.org Formed Too Fast: Massive Galaxies at Cosmic Dawn 20230309T123000
X-WR-TIMEZONE:America/New_York
X-WR-CALNAME:BayAreaScience.org
BEGIN:VEVENT
URL;VALUE=URI:https://www.bayareascience.org/calendar/index.php?com=detail&eID=33740
DTSTART:20230309T123000
DTEND:20230309T133000
SUMMARY:Formed Too Fast: Massive Galaxies at Cosmic Dawn
DESCRIPTION:The pace of galaxy growth in the early Universe offers one of the strongest and most accessible tests of the Lambda-CDM cosmological fremawork.Â  A growing number of surprisingly massive galaxies...\n______________________________\nThis Event Downloaded From a Helios Calendar Powered Site
LOCATION:Campbell Hall\, Rm 131 A - UC Berkeley \, Berkeley\, CA USA 94720
CATEGORIES:BayAreaScience.org Events
PRIORITY:0
TRANSP:TRANSPARENT
END:VEVENT
END:VCALENDAR