BEGIN:VCALENDAR
VERSION:2.0
METHOD:PUBLISH
CALSCALE:GREGORIAN
PRODID:-//Refresh Web Development//Helios Calendar//EN
X-FROM-URL:https://www.bayareascience.org/calendar/index.php?com=details&eID=33742
X-WR-RELCALID:BayAreaScience.org  Life and Science in an Absolute Monarchy 20230320T153000
X-WR-TIMEZONE:America/New_York
X-WR-CALNAME:BayAreaScience.org
BEGIN:VEVENT
URL;VALUE=URI:https://www.bayareascience.org/calendar/index.php?com=detail&eID=33742
DTSTART:20230320T153000
DTEND:20230320T163000
SUMMARY: Life and Science in an Absolute Monarchy
DESCRIPTION:What is the day-to-day life like in the Vatican? And how does that compare to the ways that such places are depicted in some of your favorite (and not-so-favorite) fantasy novels? What is it really...\n______________________________\nThis Event Downloaded From a Helios Calendar Powered Site
LOCATION:Stanford Linear Accelerator (SLAC) Colloquium Series - 2575 Sand Hill Rd\, Building 51 Kavli Auditorium\, Menlo Park\, CA  94025
CATEGORIES:BayAreaScience.org Events
PRIORITY:0
TRANSP:TRANSPARENT
END:VEVENT
END:VCALENDAR