BEGIN:VCALENDAR
VERSION:2.0
METHOD:PUBLISH
CALSCALE:GREGORIAN
PRODID:-//Refresh Web Development//Helios Calendar//EN
X-FROM-URL:https://www.bayareascience.org/calendar/index.php?com=details&eID=33743
X-WR-RELCALID:BayAreaScience.org  Unlocking the Sun: Spectroscopy in the 1800's 20230317T193000
X-WR-TIMEZONE:America/New_York
X-WR-CALNAME:BayAreaScience.org
BEGIN:VEVENT
URL;VALUE=URI:https://www.bayareascience.org/calendar/index.php?com=detail&eID=33743
DTSTART:20230317T193000
DTEND:20230317T193000
SUMMARY: Unlocking the Sun: Spectroscopy in the 1800's
DESCRIPTION:Unlocking the Sun: Spectroscopy in the 1800's" Have you ever wondered how we figured out what the Sun is made of? The story of how we determined the chemical makeup of our own star combines chemistry\,...\n______________________________\nThis Event Downloaded From a Helios Calendar Powered Site
LOCATION:Tri-Valley Stargazers - 1893 N. Vasco Rd Unitarian Universalist Church\, Livermore\, CA  94551
CATEGORIES:BayAreaScience.org Events
PRIORITY:0
TRANSP:TRANSPARENT
END:VEVENT
END:VCALENDAR