BEGIN:VCALENDAR
VERSION:2.0
METHOD:PUBLISH
CALSCALE:GREGORIAN
PRODID:-//Refresh Web Development//Helios Calendar//EN
X-FROM-URL:https://www.bayareascience.org/calendar/index.php?com=details&eID=33744
X-WR-RELCALID:BayAreaScience.org A class on Aliens in Science and Science Fiction - Livestream 20230404T140000
X-WR-TIMEZONE:America/New_York
X-WR-CALNAME:BayAreaScience.org
BEGIN:VEVENT
URL;VALUE=URI:https://www.bayareascience.org/calendar/index.php?com=detail&eID=33744
DTSTART:20230404T140000
DTEND:20230404T140000
SUMMARY:A class on Aliens in Science and Science Fiction - Livestream
DESCRIPTION:Few areas of astronomy provoke our imaginations as much as the search for â€œalien lifeâ€ among the stars. It is a staple of science fiction stories and films\, but recently it has also...\n______________________________\nThis Event Downloaded From a Helios Calendar Powered Site
LOCATION:Osher Livelong Learning Institute -  \, \, CA  
CATEGORIES:BayAreaScience.org Events
PRIORITY:0
TRANSP:TRANSPARENT
END:VEVENT
END:VCALENDAR