BEGIN:VCALENDAR
VERSION:2.0
METHOD:PUBLISH
CALSCALE:GREGORIAN
PRODID:-//Refresh Web Development//Helios Calendar//EN
X-FROM-URL:https://www.bayareascience.org/calendar/index.php?com=details&eID=33745
X-WR-RELCALID:BayAreaScience.org The Fascinating Influential Electric Wizards of the Enlightenment! 20230402T160000
X-WR-TIMEZONE:America/New_York
X-WR-CALNAME:BayAreaScience.org
BEGIN:VEVENT
URL;VALUE=URI:https://www.bayareascience.org/calendar/index.php?com=detail&eID=33745
DTSTART:20230402T160000
DTEND:20230402T160000
SUMMARY:The Fascinating Influential Electric Wizards of the Enlightenment!
DESCRIPTION:You never had so much fun learning about science! Kathy\, author of The Lightning Tamers and host of the popular science YouTube channel "Kathy Loves Physics" will tell a tale about how...\n______________________________\nThis Event Downloaded From a Helios Calendar Powered Site
LOCATION:Congregation Sherith Israel - 2266 California St \, San Francisco\, CA  94115
CATEGORIES:BayAreaScience.org Events
PRIORITY:0
TRANSP:TRANSPARENT
END:VEVENT
END:VCALENDAR