BEGIN:VCALENDAR
VERSION:2.0
METHOD:PUBLISH
CALSCALE:GREGORIAN
PRODID:-//Refresh Web Development//Helios Calendar//EN
X-FROM-URL:https://www.bayareascience.org/calendar/index.php?com=details&eID=33746
X-WR-RELCALID:BayAreaScience.org The Cold Worlds Absent in our Solar System 20230306T121000
X-WR-TIMEZONE:America/New_York
X-WR-CALNAME:BayAreaScience.org
BEGIN:VEVENT
URL;VALUE=URI:https://www.bayareascience.org/calendar/index.php?com=detail&eID=33746
DTSTART:20230306T121000
DTEND:20230306T130000
SUMMARY:The Cold Worlds Absent in our Solar System
DESCRIPTION:The standard core accretion planet formation theory predicts numerous "failed gas giant cores" in the wide orbits (> 1 AU)\, with masses less than about 10 Earth mass\, but such planets are absent...\n______________________________\nThis Event Downloaded From a Helios Calendar Powered Site
LOCATION:Campbell Hall\, Rm 131 A - UC Berkeley \, Berkeley\, CA USA 94720
CATEGORIES:BayAreaScience.org Events
PRIORITY:0
TRANSP:TRANSPARENT
END:VEVENT
END:VCALENDAR