BEGIN:VCALENDAR
VERSION:2.0
METHOD:PUBLISH
CALSCALE:GREGORIAN
PRODID:-//Refresh Web Development//Helios Calendar//EN
X-FROM-URL:https://www.bayareascience.org/calendar/index.php?com=details&eID=33761
X-WR-RELCALID:BayAreaScience.org SETI Talks: The Origin of Water on Earth: Alien Meteors, Icy Comets, or Solar Wind? - Livestream 20230322T120000
X-WR-TIMEZONE:America/New_York
X-WR-CALNAME:BayAreaScience.org
BEGIN:VEVENT
URL;VALUE=URI:https://www.bayareascience.org/calendar/index.php?com=detail&eID=33761
DTSTART:20230322T120000
DTEND:20230322T130000
SUMMARY:SETI Talks: The Origin of Water on Earth: Alien Meteors\, Icy Comets\, or Solar Wind? - Livestream
DESCRIPTION:Water is necessary for life on Earth\, but its origin is still unknown. There are multiple hypotheses about its origin. The most common theory is Earthâ€™s water is alien\, crashing down in...\n______________________________\nThis Event Downloaded From a Helios Calendar Powered Site
LOCATION:SETI Institute -  \, \, CA  
CATEGORIES:BayAreaScience.org Events
PRIORITY:0
TRANSP:TRANSPARENT
END:VEVENT
END:VCALENDAR