BEGIN:VCALENDAR
VERSION:2.0
METHOD:PUBLISH
CALSCALE:GREGORIAN
PRODID:-//Refresh Web Development//Helios Calendar//EN
X-FROM-URL:https://www.bayareascience.org/calendar/index.php?com=details&eID=33763
X-WR-RELCALID:BayAreaScience.org March LASER Event 20230329T120000
X-WR-TIMEZONE:America/New_York
X-WR-CALNAME:BayAreaScience.org
BEGIN:VEVENT
URL;VALUE=URI:https://www.bayareascience.org/calendar/index.php?com=detail&eID=33763
DTSTART:20230329T120000
DTEND:20230329T120000
SUMMARY:March LASER Event
DESCRIPTION:Christina Jauernik  (Architect and Artist) on "Touching Distance - Inter-Views with the Virtual" ...\n______________________________\nThis Event Downloaded From a Helios Calendar Powered Site
LOCATION:LASER Leonardo Art Science Evening Rendezvous -  \, \, CA  
CATEGORIES:BayAreaScience.org Events
PRIORITY:0
TRANSP:TRANSPARENT
END:VEVENT
END:VCALENDAR