BEGIN:VCALENDAR
VERSION:2.0
METHOD:PUBLISH
CALSCALE:GREGORIAN
PRODID:-//Refresh Web Development//Helios Calendar//EN
X-FROM-URL:https://www.bayareascience.org/calendar/index.php?com=details&eID=33764
X-WR-RELCALID:BayAreaScience.org 2023 Spring Birdathon Kickoff - Livestream 20230322T190000
X-WR-TIMEZONE:America/New_York
X-WR-CALNAME:BayAreaScience.org
BEGIN:VEVENT
URL;VALUE=URI:https://www.bayareascience.org/calendar/index.php?com=detail&eID=33764
DTSTART:20230322T190000
DTEND:20230322T200000
SUMMARY:2023 Spring Birdathon Kickoff - Livestream
DESCRIPTION:Join us as we kickoff the start of 2023's Birdathon!We'll be sharing our favorite highlights from last year's teams\, testing our bird smarts with fun quiz questions\, and talking about why...\n______________________________\nThis Event Downloaded From a Helios Calendar Powered Site
LOCATION:Santa Clara Valley Audubon Society -  \, \, CA  
CATEGORIES:BayAreaScience.org Events
PRIORITY:0
TRANSP:TRANSPARENT
END:VEVENT
END:VCALENDAR