BEGIN:VCALENDAR
VERSION:2.0
METHOD:PUBLISH
CALSCALE:GREGORIAN
PRODID:-//Refresh Web Development//Helios Calendar//EN
X-FROM-URL:https://www.bayareascience.org/calendar/index.php?com=details&eID=33766
X-WR-RELCALID:BayAreaScience.org The Doctor Who Wasnâ€™t There: Technology, History, and the Limits of Telehealth - Livestream 20230313T123000
X-WR-TIMEZONE:America/New_York
X-WR-CALNAME:BayAreaScience.org
BEGIN:VEVENT
URL;VALUE=URI:https://www.bayareascience.org/calendar/index.php?com=detail&eID=33766
DTSTART:20230313T123000
DTEND:20230313T133000
SUMMARY:The Doctor Who Wasnâ€™t There: Technology\, History\, and the Limits of Telehealth - Livestream
DESCRIPTION:The Holter monitor\, a portable box that has broadcasted the electrical activity of human hearts for nearly 75 years\, has become such a common object in clinical medicine that few pause to consider...\n______________________________\nThis Event Downloaded From a Helios Calendar Powered Site
LOCATION:Stanford University -  \, \, CA  
CATEGORIES:BayAreaScience.org Events
PRIORITY:0
TRANSP:TRANSPARENT
END:VEVENT
END:VCALENDAR