BEGIN:VCALENDAR
VERSION:2.0
METHOD:PUBLISH
CALSCALE:GREGORIAN
PRODID:-//Refresh Web Development//Helios Calendar//EN
X-FROM-URL:https://www.bayareascience.org/calendar/index.php?com=details&eID=33772
X-WR-RELCALID:BayAreaScience.org First Fridays Climate Series: Drying Out: Understanding Californiaâ€™s Drought 20230407T180000
X-WR-TIMEZONE:America/New_York
X-WR-CALNAME:BayAreaScience.org
BEGIN:VEVENT
URL;VALUE=URI:https://www.bayareascience.org/calendar/index.php?com=detail&eID=33772
DTSTART:20230407T180000
DTEND:20230407T220000
SUMMARY:First Fridays Climate Series: Drying Out: Understanding Californiaâ€™s Drought
DESCRIPTION:One of the most obvious effects of climate change in California is our prolific drought. Why is California so prone to these dry spells? What are the long-term effects on our ecosystem? How are...\n______________________________\nThis Event Downloaded From a Helios Calendar Powered Site
LOCATION:Chabot Space and Science Center - 10000 Skyline Blvd \, Oakland\, CA USA 94619
CATEGORIES:BayAreaScience.org Events
PRIORITY:0
TRANSP:TRANSPARENT
END:VEVENT
END:VCALENDAR