BEGIN:VCALENDAR
VERSION:2.0
METHOD:PUBLISH
CALSCALE:GREGORIAN
PRODID:-//Refresh Web Development//Helios Calendar//EN
X-FROM-URL:https://www.bayareascience.org/calendar/index.php?com=details&eID=33776
X-WR-RELCALID:BayAreaScience.org 5th Annual Tinkerfest 20230520T100000
X-WR-TIMEZONE:America/New_York
X-WR-CALNAME:BayAreaScience.org
BEGIN:VEVENT
URL;VALUE=URI:https://www.bayareascience.org/calendar/index.php?com=detail&eID=33776
DTSTART:20230520T100000
DTEND:20230520T160000
SUMMARY:5th Annual Tinkerfest
DESCRIPTION:Tinkerfest is a one-day event that celebrates the creative\, curious\, and inventive spirit in all of us. Tinkerfest will bring together makers\, artists\, and tinkerers to showcase their work and...\n______________________________\nThis Event Downloaded From a Helios Calendar Powered Site
LOCATION:Chabot Space and Science Center - 10000 Skyline Blvd \, Oakland\, CA USA 94619
CATEGORIES:BayAreaScience.org Events
PRIORITY:0
TRANSP:TRANSPARENT
END:VEVENT
END:VCALENDAR