BEGIN:VCALENDAR
VERSION:2.0
METHOD:PUBLISH
CALSCALE:GREGORIAN
PRODID:-//Refresh Web Development//Helios Calendar//EN
X-FROM-URL:https://www.bayareascience.org/calendar/index.php?com=details&eID=33778
X-WR-RELCALID:BayAreaScience.org Exoplanet Watch: Inviting Citizen Scientists to Observe Transiting Exoplanets - Livestream 20230325T190000
X-WR-TIMEZONE:America/New_York
X-WR-CALNAME:BayAreaScience.org
BEGIN:VEVENT
URL;VALUE=URI:https://www.bayareascience.org/calendar/index.php?com=detail&eID=33778
DTSTART:20230325T190000
DTEND:20230325T190000
SUMMARY:Exoplanet Watch: Inviting Citizen Scientists to Observe Transiting Exoplanets - Livestream
DESCRIPTION:Join exoplanet astronomer Rob Zellem\, of NASAâ€™s Jet Propulsion Laboratory\, as he discusses how we find and characterize exoplanets\, planets outside of our own Solar System\, with the ultimate...\n______________________________\nThis Event Downloaded From a Helios Calendar Powered Site
LOCATION:East Bay Astronomical Society -  \, \, CA  
CATEGORIES:BayAreaScience.org Events
PRIORITY:0
TRANSP:TRANSPARENT
END:VEVENT
END:VCALENDAR