BEGIN:VCALENDAR
VERSION:2.0
METHOD:PUBLISH
CALSCALE:GREGORIAN
PRODID:-//Refresh Web Development//Helios Calendar//EN
X-FROM-URL:https://www.bayareascience.org/calendar/index.php?com=details&eID=33780
X-WR-RELCALID:BayAreaScience.org What Feces Can Tell Us About the Health of the Endangered Southern Resident Killer Whales - Livestream 20230425T190000
X-WR-TIMEZONE:America/New_York
X-WR-CALNAME:BayAreaScience.org
BEGIN:VEVENT
URL;VALUE=URI:https://www.bayareascience.org/calendar/index.php?com=detail&eID=33780
DTSTART:20230425T190000
DTEND:20230425T203000
SUMMARY:What Feces Can Tell Us About the Health of the Endangered Southern Resident Killer Whales - Livestream
DESCRIPTION:The Southern Resident killer whales are one of the most studied and well-known endangered species on the planet\, yet efforts to save them have been largely unsuccessful. How can research be translated...\n______________________________\nThis Event Downloaded From a Helios Calendar Powered Site
LOCATION:American Cetacean Society -  \, \, CA  
CATEGORIES:BayAreaScience.org Events
PRIORITY:0
TRANSP:TRANSPARENT
END:VEVENT
END:VCALENDAR