BEGIN:VCALENDAR
VERSION:2.0
METHOD:PUBLISH
CALSCALE:GREGORIAN
PRODID:-//Refresh Web Development//Helios Calendar//EN
X-FROM-URL:https://www.bayareascience.org/calendar/index.php?com=details&eID=33783
X-WR-RELCALID:BayAreaScience.org  Centering Health Justice and Trans Well-Being - Livestream 20230329T130000
X-WR-TIMEZONE:America/New_York
X-WR-CALNAME:BayAreaScience.org
BEGIN:VEVENT
URL;VALUE=URI:https://www.bayareascience.org/calendar/index.php?com=detail&eID=33783
DTSTART:20230329T130000
DTEND:20230329T140000
SUMMARY: Centering Health Justice and Trans Well-Being - Livestream
DESCRIPTION:In celebration of International Transgender Day of Visibility\, join two scientific presentations that will help raise awareness of systemic issues that impact trans\, nonbinary\, and gender-diverse...\n______________________________\nThis Event Downloaded From a Helios Calendar Powered Site
LOCATION:Gladstone Institutes -  \, \, CA  
CATEGORIES:BayAreaScience.org Events
PRIORITY:0
TRANSP:TRANSPARENT
END:VEVENT
END:VCALENDAR