BEGIN:VCALENDAR
VERSION:2.0
METHOD:PUBLISH
CALSCALE:GREGORIAN
PRODID:-//Refresh Web Development//Helios Calendar//EN
X-FROM-URL:https://www.bayareascience.org/calendar/index.php?com=details&eID=33787
X-WR-RELCALID:BayAreaScience.org The Brussels Effect? A practical outlook on global convergence and divergence in digital platform regulation after the EUâ€™s Digital Markets Act 20230315T170000
X-WR-TIMEZONE:America/New_York
X-WR-CALNAME:BayAreaScience.org
BEGIN:VEVENT
URL;VALUE=URI:https://www.bayareascience.org/calendar/index.php?com=detail&eID=33787
DTSTART:20230315T170000
DTEND:20230315T190000
SUMMARY:The Brussels Effect? A practical outlook on global convergence and divergence in digital platform regulation after the EUâ€™s Digital Markets Act
DESCRIPTION:An informal panel debate and audience discussion on the future of digital platform regulation in Europe\, the U.S. and China followed by a social hour for further discussion. The panel will explore...\n______________________________\nThis Event Downloaded From a Helios Calendar Powered Site
LOCATION:Paul Brest Hall - 555 Salvatierra Walk \, Stanford\, CA  94305
CATEGORIES:BayAreaScience.org Events
PRIORITY:0
TRANSP:TRANSPARENT
END:VEVENT
END:VCALENDAR