BEGIN:VCALENDAR
VERSION:2.0
METHOD:PUBLISH
CALSCALE:GREGORIAN
PRODID:-//Refresh Web Development//Helios Calendar//EN
X-FROM-URL:https://www.bayareascience.org/calendar/index.php?com=details&eID=33789
X-WR-RELCALID:BayAreaScience.org  Community discussion: Bolinas Lagoon, Duxbury Reef, and the Bolinas Field Station 20230430T100000
X-WR-TIMEZONE:America/New_York
X-WR-CALNAME:BayAreaScience.org
BEGIN:VEVENT
URL;VALUE=URI:https://www.bayareascience.org/calendar/index.php?com=detail&eID=33789
DTSTART:20230430T100000
DTEND:20230430T113000
SUMMARY: Community discussion: Bolinas Lagoon\, Duxbury Reef\, and the Bolinas Field Station
DESCRIPTION:Please join Audubon Canyon Ranch and College of Marin (COM) for a presentation and discussion of the current and future science and state of Bolinas Lagoon\, Duxbury Reef\, and COMâ€™s Bolinas...\n______________________________\nThis Event Downloaded From a Helios Calendar Powered Site
LOCATION:Audubon Canyon Ranch - 4800 Shoreline Hwy\, Mile Marker 15.42 Volunteer Canyon\, Stinson Beach\, CA  94924
CATEGORIES:BayAreaScience.org Events
PRIORITY:0
TRANSP:TRANSPARENT
END:VEVENT
END:VCALENDAR