BEGIN:VCALENDAR
VERSION:2.0
METHOD:PUBLISH
CALSCALE:GREGORIAN
PRODID:-//Refresh Web Development//Helios Calendar//EN
X-FROM-URL:https://www.bayareascience.org/calendar/index.php?com=details&eID=33805
X-WR-RELCALID:BayAreaScience.org Ethernet @ 50 20230522T183000
X-WR-TIMEZONE:America/New_York
X-WR-CALNAME:BayAreaScience.org
BEGIN:VEVENT
URL;VALUE=URI:https://www.bayareascience.org/calendar/index.php?com=detail&eID=33805
DTSTART:20230522T183000
DTEND:20230522T183000
SUMMARY:Ethernet @ 50
DESCRIPTION:On May 22\, 1973\, a young researcher at Xerox PARC named Bob Metcalfe sent a memo outlining his concept for connecting the research centerâ€™s computers. He called...\n______________________________\nThis Event Downloaded From a Helios Calendar Powered Site
LOCATION:Computer History Museum - 1401 N Shoreline Blvd  \, Mountain View\, CA  94043
CATEGORIES:BayAreaScience.org Events
PRIORITY:0
TRANSP:TRANSPARENT
END:VEVENT
END:VCALENDAR