BEGIN:VCALENDAR
VERSION:2.0
METHOD:PUBLISH
CALSCALE:GREGORIAN
PRODID:-//Refresh Web Development//Helios Calendar//EN
X-FROM-URL:https://www.bayareascience.org/calendar/index.php?com=details&eID=33807
X-WR-RELCALID:BayAreaScience.org Mountain Lion Lecture 20230323T190000
X-WR-TIMEZONE:America/New_York
X-WR-CALNAME:BayAreaScience.org
BEGIN:VEVENT
URL;VALUE=URI:https://www.bayareascience.org/calendar/index.php?com=detail&eID=33807
DTSTART:20230323T190000
DTEND:20230323T190000
SUMMARY:Mountain Lion Lecture
DESCRIPTION:California State Parks presents an evening lecture by Dr. Quinton Martins of True Wild about our local mountain lion population. Learn more about the movement\, diet\, and behavior of mountain lions...\n______________________________\nThis Event Downloaded From a Helios Calendar Powered Site
LOCATION:Sonoma State Historical Park - 36 E Spain St \, Sonoma\, CA  95476
CATEGORIES:BayAreaScience.org Events
PRIORITY:0
TRANSP:TRANSPARENT
END:VEVENT
END:VCALENDAR