BEGIN:VCALENDAR
VERSION:2.0
METHOD:PUBLISH
CALSCALE:GREGORIAN
PRODID:-//Refresh Web Development//Helios Calendar//EN
X-FROM-URL:https://www.bayareascience.org/calendar/index.php?com=details&eID=33815
X-WR-RELCALID:BayAreaScience.org  Our love and fear of Orcas: The Killer whales in Norway, Iceland, and Greenland - Livestream 20230426T110000
X-WR-TIMEZONE:America/New_York
X-WR-CALNAME:BayAreaScience.org
BEGIN:VEVENT
URL;VALUE=URI:https://www.bayareascience.org/calendar/index.php?com=detail&eID=33815
DTSTART:20230426T110000
DTEND:20230426T120000
SUMMARY: Our love and fear of Orcas: The Killer whales in Norway\, Iceland\, and Greenland - Livestream
DESCRIPTION:Killer whales are not universally loved....\n______________________________\nThis Event Downloaded From a Helios Calendar Powered Site
LOCATION:Monterey Bay Aquarium Research Institute -  \, \, CA  
CATEGORIES:BayAreaScience.org Events
PRIORITY:0
TRANSP:TRANSPARENT
END:VEVENT
END:VCALENDAR