BEGIN:VCALENDAR
VERSION:2.0
METHOD:PUBLISH
CALSCALE:GREGORIAN
PRODID:-//Refresh Web Development//Helios Calendar//EN
X-FROM-URL:https://www.bayareascience.org/calendar/index.php?com=details&eID=33819
X-WR-RELCALID:BayAreaScience.org Morning Hike at San Vicente Redwoods - RESCHEDULED 20230401T100000
X-WR-TIMEZONE:America/New_York
X-WR-CALNAME:BayAreaScience.org
BEGIN:VEVENT
URL;VALUE=URI:https://www.bayareascience.org/calendar/index.php?com=detail&eID=33819
DTSTART:20230401T100000
DTEND:20230401T123000
SUMMARY:Morning Hike at San Vicente Redwoods - RESCHEDULED
DESCRIPTION:Join Peninsula Open Space Trust for a community hike at San Vicente Redwoods! This will be a moderate hike of 3.5 miles on fairly level trails with little elevation gain. Guests will be led by...\n______________________________\nThis Event Downloaded From a Helios Calendar Powered Site
LOCATION:San Vicente Redwoods Trailhead - 12001 Empire Grade \, Santa Cruz\, CA  95060
CATEGORIES:BayAreaScience.org Events
PRIORITY:0
TRANSP:TRANSPARENT
END:VEVENT
END:VCALENDAR