BEGIN:VCALENDAR
VERSION:2.0
METHOD:PUBLISH
CALSCALE:GREGORIAN
PRODID:-//Refresh Web Development//Helios Calendar//EN
X-FROM-URL:https://www.bayareascience.org/calendar/index.php?com=details&eID=33820
X-WR-RELCALID:BayAreaScience.org Astro 101: Intro to the Night Sky 20230324T190000
X-WR-TIMEZONE:America/New_York
X-WR-CALNAME:BayAreaScience.org
BEGIN:VEVENT
URL;VALUE=URI:https://www.bayareascience.org/calendar/index.php?com=detail&eID=33820
DTSTART:20230324T190000
DTEND:20230324T200000
SUMMARY:Astro 101: Intro to the Night Sky
DESCRIPTION:The sky is full of stars! How do we know what's what and find our way around? During this talk\, you'll learn to recognize key star formations and some tricks that astronomers use...\n______________________________\nThis Event Downloaded From a Helios Calendar Powered Site
LOCATION:San Jose Astronomical Association - Houge Park 3972 Twilight Drive\, San Jose\, CA  95124
CATEGORIES:BayAreaScience.org Events
PRIORITY:0
TRANSP:TRANSPARENT
END:VEVENT
END:VCALENDAR