BEGIN:VCALENDAR
VERSION:2.0
METHOD:PUBLISH
CALSCALE:GREGORIAN
PRODID:-//Refresh Web Development//Helios Calendar//EN
X-FROM-URL:https://www.bayareascience.org/calendar/index.php?com=details&eID=33823
X-WR-RELCALID:BayAreaScience.org The Skepticsâ€™ Guide to the Future - Livestream 20230329T160000
X-WR-TIMEZONE:America/New_York
X-WR-CALNAME:BayAreaScience.org
BEGIN:VEVENT
URL;VALUE=URI:https://www.bayareascience.org/calendar/index.php?com=detail&eID=33823
DTSTART:20230329T160000
DTEND:20230329T160000
SUMMARY:The Skepticsâ€™ Guide to the Future - Livestream
DESCRIPTION:Our predictions of the future are a wild fantasy\, inextricably linked to our present hopes and fears\, biases and ignorance. The best we can do is try to absorb the lessons from futurismâ€™s...\n______________________________\nThis Event Downloaded From a Helios Calendar Powered Site
LOCATION:Skeptical Inquirer -  \, \, CA  
CATEGORIES:BayAreaScience.org Events
PRIORITY:0
TRANSP:TRANSPARENT
END:VEVENT
END:VCALENDAR