BEGIN:VCALENDAR
VERSION:2.0
METHOD:PUBLISH
CALSCALE:GREGORIAN
PRODID:-//Refresh Web Development//Helios Calendar//EN
X-FROM-URL:https://www.bayareascience.org/calendar/index.php?com=details&eID=33824
X-WR-RELCALID:BayAreaScience.org Ig Nobel Prize face-to-face 20230322T130000
X-WR-TIMEZONE:America/New_York
X-WR-CALNAME:BayAreaScience.org
BEGIN:VEVENT
URL;VALUE=URI:https://www.bayareascience.org/calendar/index.php?com=detail&eID=33824
DTSTART:20230322T130000
DTEND:20230322T150000
SUMMARY:Ig Nobel Prize face-to-face
DESCRIPTION:Our esteemed founder of the prize (and the journal the Annals of Improbable Research)\, Marc Abrahams\, will take us through the fascinating history of the Ig Nobel Prize\, from its inception in 1991...\n______________________________\nThis Event Downloaded From a Helios Calendar Powered Site
LOCATION:ChEM-H/Neuroscience Building\, Gunn Rotunda (E241) - 290 Jane Stanford Way Stanford University\, Stanford\, CA  
CATEGORIES:BayAreaScience.org Events
PRIORITY:0
TRANSP:TRANSPARENT
END:VEVENT
END:VCALENDAR