BEGIN:VCALENDAR
VERSION:2.0
METHOD:PUBLISH
CALSCALE:GREGORIAN
PRODID:-//Refresh Web Development//Helios Calendar//EN
X-FROM-URL:https://www.bayareascience.org/calendar/index.php?com=details&eID=33829
X-WR-RELCALID:BayAreaScience.org Life as a Leatherback Workshop - Second Session 20230325T130000
X-WR-TIMEZONE:America/New_York
X-WR-CALNAME:BayAreaScience.org
BEGIN:VEVENT
URL;VALUE=URI:https://www.bayareascience.org/calendar/index.php?com=detail&eID=33829
DTSTART:20230325T130000
DTEND:20230325T143000
SUMMARY:Life as a Leatherback Workshop - Second Session
DESCRIPTION:Learn what it takes to be the worldâ€™s largest species of turtle. Participants will discover the life cycle of a leatherback turtle through interactive games and stories. Explore sea...\n______________________________\nThis Event Downloaded From a Helios Calendar Powered Site
LOCATION:Gulf of the Farallones National Marine Sanctuary - 991 Marine Drive Visitor's Center\, San Francisco\, CA  94129
CATEGORIES:BayAreaScience.org Events
PRIORITY:0
TRANSP:TRANSPARENT
END:VEVENT
END:VCALENDAR