BEGIN:VCALENDAR
VERSION:2.0
METHOD:PUBLISH
CALSCALE:GREGORIAN
PRODID:-//Refresh Web Development//Helios Calendar//EN
X-FROM-URL:https://www.bayareascience.org/calendar/index.php?com=details&eID=33834
X-WR-RELCALID:BayAreaScience.org The Age of Scientific Wellness: The Future of Medicine Is Personalized, Predictive, Data-Rich and in Your Hands 20230405T173000
X-WR-TIMEZONE:America/New_York
X-WR-CALNAME:BayAreaScience.org
BEGIN:VEVENT
URL;VALUE=URI:https://www.bayareascience.org/calendar/index.php?com=detail&eID=33834
DTSTART:20230405T173000
DTEND:20230405T183000
SUMMARY:The Age of Scientific Wellness: The Future of Medicine Is Personalized\, Predictive\, Data-Rich and in Your Hands
DESCRIPTION:Taking us to the cutting edge of the new frontier of medicine\, a visionary biotechnologist and a pathbreaking researcher show how we can optimize our health in ways that were previously unimaginable....\n______________________________\nThis Event Downloaded From a Helios Calendar Powered Site
LOCATION:Commonwealth Club - 110 The Embarcadero \, San Francisco\, CA  94105
CATEGORIES:BayAreaScience.org Events
PRIORITY:0
TRANSP:TRANSPARENT
END:VEVENT
END:VCALENDAR