BEGIN:VCALENDAR
VERSION:2.0
METHOD:PUBLISH
CALSCALE:GREGORIAN
PRODID:-//Refresh Web Development//Helios Calendar//EN
X-FROM-URL:https://www.bayareascience.org/calendar/index.php?com=details&eID=33842
X-WR-RELCALID:BayAreaScience.org  Conservation Oceanography: Ocean regime shift is driving collapse of the North Atlantic right whale population - Livestream 20230418T110000
X-WR-TIMEZONE:America/New_York
X-WR-CALNAME:BayAreaScience.org
BEGIN:VEVENT
URL;VALUE=URI:https://www.bayareascience.org/calendar/index.php?com=detail&eID=33842
DTSTART:20230418T110000
DTEND:20230418T120000
SUMMARY: Conservation Oceanography: Ocean regime shift is driving collapse of the North Atlantic right whale population - Livestream
DESCRIPTION:Ocean warming linked to anthropogenic climate change is impacting the ecology of marine species around the world. In 2010\, the Gulf of Maine and Scotian Shelf regions of the Northwest Atlantic...\n______________________________\nThis Event Downloaded From a Helios Calendar Powered Site
LOCATION:Monterey Bay Aquarium Research Institute - 7700 Sandholdt Rd. \, Moss Landing\, CA US 95039
CATEGORIES:BayAreaScience.org Events
PRIORITY:0
TRANSP:TRANSPARENT
END:VEVENT
END:VCALENDAR