BEGIN:VCALENDAR
VERSION:2.0
METHOD:PUBLISH
CALSCALE:GREGORIAN
PRODID:-//Refresh Web Development//Helios Calendar//EN
X-FROM-URL:https://www.bayareascience.org/calendar/index.php?com=details&eID=33855
X-WR-RELCALID:BayAreaScience.org Bringing Back the Natives Virtual Garden Tour 20230415T100000
X-WR-TIMEZONE:America/New_York
X-WR-CALNAME:BayAreaScience.org
BEGIN:VEVENT
URL;VALUE=URI:https://www.bayareascience.org/calendar/index.php?com=detail&eID=33855
DTSTART:20230415T100000
DTEND:20230415T150000
SUMMARY:Bringing Back the Natives Virtual Garden Tour
DESCRIPTION:This delightful collection of native plant gardens ranges from Al Kyteâ€™s 45-year-old wildlife oasis to brand new installations\, from large lots in the hills to small front-yard gardens\,...\n______________________________\nThis Event Downloaded From a Helios Calendar Powered Site
LOCATION:Bringing Back the Natives -  \, \, CA  
CATEGORIES:BayAreaScience.org Events
PRIORITY:0
TRANSP:TRANSPARENT
END:VEVENT
END:VCALENDAR