BEGIN:VCALENDAR
VERSION:2.0
METHOD:PUBLISH
CALSCALE:GREGORIAN
PRODID:-//Refresh Web Development//Helios Calendar//EN
X-FROM-URL:https://www.bayareascience.org/calendar/index.php?com=details&eID=33860
X-WR-RELCALID:BayAreaScience.org 'All the Little Things' - EcoCenter Family Event 20230506T103000
X-WR-TIMEZONE:America/New_York
X-WR-CALNAME:BayAreaScience.org
BEGIN:VEVENT
URL;VALUE=URI:https://www.bayareascience.org/calendar/index.php?com=detail&eID=33860
DTSTART:20230506T103000
DTEND:20230506T120000
SUMMARY:'All the Little Things' - EcoCenter Family Event
DESCRIPTION:In this special publicÂ program\, join the Environmental Volunteers to learn about the importance of the "little things" in our ecosystem - insects\, decomposers\, etc. Discover how these organisms...\n______________________________\nThis Event Downloaded From a Helios Calendar Powered Site
LOCATION:Environmental Volunteers EcoCenter - 2560 Embarcadero Road \, Palo Alto\, CA  94303
CATEGORIES:BayAreaScience.org Events
PRIORITY:0
TRANSP:TRANSPARENT
END:VEVENT
END:VCALENDAR