BEGIN:VCALENDAR
VERSION:2.0
METHOD:PUBLISH
CALSCALE:GREGORIAN
PRODID:-//Refresh Web Development//Helios Calendar//EN
X-FROM-URL:https://www.bayareascience.org/calendar/index.php?com=details&eID=33865
X-WR-RELCALID:BayAreaScience.org Long Now: Resisting Dystopia 20230418T190000
X-WR-TIMEZONE:America/New_York
X-WR-CALNAME:BayAreaScience.org
BEGIN:VEVENT
URL;VALUE=URI:https://www.bayareascience.org/calendar/index.php?com=detail&eID=33865
DTSTART:20230418T190000
DTEND:20230418T190000
SUMMARY:Long Now: Resisting Dystopia
DESCRIPTION:Join us for a thought-provoking conversation between two Hugo award-winning science fiction authors\, Becky Chambers and Annalee Newitz. Known for challenging classic science fiction tropes such...\n______________________________\nThis Event Downloaded From a Helios Calendar Powered Site
LOCATION:The Interval at Long Now - 2 Marina Blvd Fort Mason Center\, San Francisco\, CA  94123
CATEGORIES:BayAreaScience.org Events
PRIORITY:0
TRANSP:TRANSPARENT
END:VEVENT
END:VCALENDAR