BEGIN:VCALENDAR
VERSION:2.0
METHOD:PUBLISH
CALSCALE:GREGORIAN
PRODID:-//Refresh Web Development//Helios Calendar//EN
X-FROM-URL:https://www.bayareascience.org/calendar/index.php?com=details&eID=33866
X-WR-RELCALID:BayAreaScience.org  Climate Fiction Storytellers  The Climate Parables: Reporting from the Future 20230512T200000
X-WR-TIMEZONE:America/New_York
X-WR-CALNAME:BayAreaScience.org
BEGIN:VEVENT
URL;VALUE=URI:https://www.bayareascience.org/calendar/index.php?com=detail&eID=33866
DTSTART:20230512T200000
DTEND:20230512T200000
SUMMARY: Climate Fiction Storytellers  The Climate Parables: Reporting from the Future
DESCRIPTION:The series starts with the idea that survival in the Anthropocene depends on upgrading not just our technology\, but also our collective imagination. From there\, acclaimed storytellers will perform...\n______________________________\nThis Event Downloaded From a Helios Calendar Powered Site
LOCATION:St. Joseph's Art's Society - 1401 Howard St \, San Francisco\, CA  94103
CATEGORIES:BayAreaScience.org Events
PRIORITY:0
TRANSP:TRANSPARENT
END:VEVENT
END:VCALENDAR