BEGIN:VCALENDAR
VERSION:2.0
METHOD:PUBLISH
CALSCALE:GREGORIAN
PRODID:-//Refresh Web Development//Helios Calendar//EN
X-FROM-URL:https://www.bayareascience.org/calendar/index.php?com=details&eID=33871
X-WR-RELCALID:BayAreaScience.org Using proxies to assess anthropogenic effects on under-monitored equatorial Pacific reefs 20230501T123000
X-WR-TIMEZONE:America/New_York
X-WR-CALNAME:BayAreaScience.org
BEGIN:VEVENT
URL;VALUE=URI:https://www.bayareascience.org/calendar/index.php?com=detail&eID=33871
DTSTART:20230501T123000
DTEND:20230501T133000
SUMMARY:Using proxies to assess anthropogenic effects on under-monitored equatorial Pacific reefs
DESCRIPTION:Coral reefs are struggling as anthropogenic warming fuels an increase in the frequency and intensity of Marine Heat Waves\, causing widespread bleaching and coral death. Yet some reefs\, including...\n______________________________\nThis Event Downloaded From a Helios Calendar Powered Site
LOCATION:Environment and Energy Building (Y2E2) - Stanford University Room 111\, Stanford\, CA  94305
CATEGORIES:BayAreaScience.org Events
PRIORITY:0
TRANSP:TRANSPARENT
END:VEVENT
END:VCALENDAR