BEGIN:VCALENDAR
VERSION:2.0
METHOD:PUBLISH
CALSCALE:GREGORIAN
PRODID:-//Refresh Web Development//Helios Calendar//EN
X-FROM-URL:https://www.bayareascience.org/calendar/index.php?com=details&eID=33872
X-WR-RELCALID:BayAreaScience.org Salinity Intrusion in Northern San Francisco Bay: Observations and Models 20230403T123000
X-WR-TIMEZONE:America/New_York
X-WR-CALNAME:BayAreaScience.org
BEGIN:VEVENT
URL;VALUE=URI:https://www.bayareascience.org/calendar/index.php?com=detail&eID=33872
DTSTART:20230403T123000
DTEND:20230403T133000
SUMMARY:Salinity Intrusion in Northern San Francisco Bay: Observations and Models
DESCRIPTION:The problem of predicting how the salinity field in estuaries responds to freshwater inflows is one that draws attention from both physical oceanographers and hydraulic engineers since it has both...\n______________________________\nThis Event Downloaded From a Helios Calendar Powered Site
LOCATION:Environment and Energy Building (Y2E2) - Stanford University Room 111\, Stanford\, CA  94305
CATEGORIES:BayAreaScience.org Events
PRIORITY:0
TRANSP:TRANSPARENT
END:VEVENT
END:VCALENDAR