BEGIN:VCALENDAR
VERSION:2.0
METHOD:PUBLISH
CALSCALE:GREGORIAN
PRODID:-//Refresh Web Development//Helios Calendar//EN
X-FROM-URL:https://www.bayareascience.org/calendar/index.php?com=details&eID=33879
X-WR-RELCALID:BayAreaScience.org The Great Blue Heron Colony 20230401T140000
X-WR-TIMEZONE:America/New_York
X-WR-CALNAME:BayAreaScience.org
BEGIN:VEVENT
URL;VALUE=URI:https://www.bayareascience.org/calendar/index.php?com=detail&eID=33879
DTSTART:20230401T140000
DTEND:20230401T153000
SUMMARY:The Great Blue Heron Colony
DESCRIPTION:Nesting at Snow Lake for 30 yearsNancyÂ DeStefanis presentsÂ slides of 30 years of Blue Herons at Stow Lake from 1995 to the present and screens theÂ movie Great Blues of the Golden...\n______________________________\nThis Event Downloaded From a Helios Calendar Powered Site
LOCATION:San Francisco Public Library - Merced Branch - 155 Winston Drive \, San Francisco\, CA  94132
CATEGORIES:BayAreaScience.org Events
PRIORITY:0
TRANSP:TRANSPARENT
END:VEVENT
END:VCALENDAR