BEGIN:VCALENDAR
VERSION:2.0
METHOD:PUBLISH
CALSCALE:GREGORIAN
PRODID:-//Refresh Web Development//Helios Calendar//EN
X-FROM-URL:https://www.bayareascience.org/calendar/index.php?com=details&eID=33885
X-WR-RELCALID:BayAreaScience.org Resilient and Renewable Power for California High-Speed Rail 20230417T163000
X-WR-TIMEZONE:America/New_York
X-WR-CALNAME:BayAreaScience.org
BEGIN:VEVENT
URL;VALUE=URI:https://www.bayareascience.org/calendar/index.php?com=detail&eID=33885
DTSTART:20230417T163000
DTEND:20230417T172000
SUMMARY:Resilient and Renewable Power for California High-Speed Rail
DESCRIPTION:California High-Speed Rail will serve as the backbone for a modern\, integrated statewide passenger rail network that will connect Californiaâ€™s urban\, suburban and rural communities with...\n______________________________\nThis Event Downloaded From a Helios Calendar Powered Site
LOCATION:Stanford University Energy Seminar - Huang Science Center NVIDIA Auditorium\, Stanford\, CA  94305
CATEGORIES:BayAreaScience.org Events
PRIORITY:0
TRANSP:TRANSPARENT
END:VEVENT
END:VCALENDAR