BEGIN:VCALENDAR
VERSION:2.0
METHOD:PUBLISH
CALSCALE:GREGORIAN
PRODID:-//Refresh Web Development//Helios Calendar//EN
X-FROM-URL:https://www.bayareascience.org/calendar/index.php?com=details&eID=33893
X-WR-RELCALID:BayAreaScience.org Science Safari - Native or Non-Native at Vasona Park 20230408T100000
X-WR-TIMEZONE:America/New_York
X-WR-CALNAME:BayAreaScience.org
BEGIN:VEVENT
URL;VALUE=URI:https://www.bayareascience.org/calendar/index.php?com=detail&eID=33893
DTSTART:20230408T100000
DTEND:20230408T113000
SUMMARY:Science Safari - Native or Non-Native at Vasona Park
DESCRIPTION:...\n______________________________\nThis Event Downloaded From a Helios Calendar Powered Site
LOCATION:Youth Science Institute - Vasona Lake Park 333 Blossom Hill Road\, Los Gatos\, CA  
CATEGORIES:BayAreaScience.org Events
PRIORITY:0
TRANSP:TRANSPARENT
END:VEVENT
END:VCALENDAR