BEGIN:VCALENDAR
VERSION:2.0
METHOD:PUBLISH
CALSCALE:GREGORIAN
PRODID:-//Refresh Web Development//Helios Calendar//EN
X-FROM-URL:https://www.bayareascience.org/calendar/index.php?com=details&eID=33895
X-WR-RELCALID:BayAreaScience.org How to See with Artistic and Scientific Eyes 20230407T193000
X-WR-TIMEZONE:America/New_York
X-WR-CALNAME:BayAreaScience.org
BEGIN:VEVENT
URL;VALUE=URI:https://www.bayareascience.org/calendar/index.php?com=detail&eID=33895
DTSTART:20230407T193000
DTEND:20230407T220000
SUMMARY:How to See with Artistic and Scientific Eyes
DESCRIPTION:We have two worlds: In our outer world\, we exist\, interact with others\, and deal with the everyday commerce of life. At the same time\, we live\, dream\, imagine\, and think in our inner universe....\n______________________________\nThis Event Downloaded From a Helios Calendar Powered Site
LOCATION:College of San Mateo Theater Building 3 - 1700 W Hillsdale Rd \, San Mateo\, CA  94402
CATEGORIES:BayAreaScience.org Events
PRIORITY:0
TRANSP:TRANSPARENT
END:VEVENT
END:VCALENDAR