BEGIN:VCALENDAR
VERSION:2.0
METHOD:PUBLISH
CALSCALE:GREGORIAN
PRODID:-//Refresh Web Development//Helios Calendar//EN
X-FROM-URL:https://www.bayareascience.org/calendar/index.php?com=details&eID=33898
X-WR-RELCALID:BayAreaScience.org  Parks4All: Pink Full Moon Hike and Party 20230405T170000
X-WR-TIMEZONE:America/New_York
X-WR-CALNAME:BayAreaScience.org
BEGIN:VEVENT
URL;VALUE=URI:https://www.bayareascience.org/calendar/index.php?com=detail&eID=33898
DTSTART:20230405T170000
DTEND:20230405T210000
SUMMARY: Parks4All: Pink Full Moon Hike and Party
DESCRIPTION:In the spirit of newness\, we are throwing a one-of-a-kind pink-out party under April's Pink Full Moon at Presidio Tunnel Tops! Bring all the pink clothing and accessories you own to celebrate change...\n______________________________\nThis Event Downloaded From a Helios Calendar Powered Site
LOCATION:Presidio Tunnel Tops - 210 Lincoln Blvd \, San Francisco\, CA  94129
CATEGORIES:BayAreaScience.org Events
PRIORITY:0
TRANSP:TRANSPARENT
END:VEVENT
END:VCALENDAR