BEGIN:VCALENDAR
VERSION:2.0
METHOD:PUBLISH
CALSCALE:GREGORIAN
PRODID:-//Refresh Web Development//Helios Calendar//EN
X-FROM-URL:https://www.bayareascience.org/calendar/index.php?com=details&eID=33913
X-WR-RELCALID:BayAreaScience.org A cycle of memory creation, erasure, and phase transitions in granular assemblages sheared by natural faults 20230516T153000
X-WR-TIMEZONE:America/New_York
X-WR-CALNAME:BayAreaScience.org
BEGIN:VEVENT
URL;VALUE=URI:https://www.bayareascience.org/calendar/index.php?com=detail&eID=33913
DTSTART:20230516T153000
DTEND:20230516T153000
SUMMARY:A cycle of memory creation\, erasure\, and phase transitions in granular assemblages sheared by natural faults
DESCRIPTION:A hallmark of many natural hazards (i.e.\, avalanches\, landslides\,...\n______________________________\nThis Event Downloaded From a Helios Calendar Powered Site
LOCATION:Natural Science Annex - UC Santa Cruz Room 101\, Santa Cruz\, CA  95064
CATEGORIES:BayAreaScience.org Events
PRIORITY:0
TRANSP:TRANSPARENT
END:VEVENT
END:VCALENDAR