BEGIN:VCALENDAR
VERSION:2.0
METHOD:PUBLISH
CALSCALE:GREGORIAN
PRODID:-//Refresh Web Development//Helios Calendar//EN
X-FROM-URL:https://www.bayareascience.org/calendar/index.php?com=details&eID=33914
X-WR-RELCALID:BayAreaScience.org Professional development to support students: Strategies to improve student's quantitative confidence and literacy 20230523T153000
X-WR-TIMEZONE:America/New_York
X-WR-CALNAME:BayAreaScience.org
BEGIN:VEVENT
URL;VALUE=URI:https://www.bayareascience.org/calendar/index.php?com=detail&eID=33914
DTSTART:20230523T153000
DTEND:20230523T153000
SUMMARY:Professional development to support students: Strategies to improve student's quantitative confidence and literacy
DESCRIPTION:Speaker: Amanda Donaldson\, UC Santa...\n______________________________\nThis Event Downloaded From a Helios Calendar Powered Site
LOCATION:Natural Science Annex - UC Santa Cruz Room 101\, Santa Cruz\, CA  95064
CATEGORIES:BayAreaScience.org Events
PRIORITY:0
TRANSP:TRANSPARENT
END:VEVENT
END:VCALENDAR