BEGIN:VCALENDAR
VERSION:2.0
METHOD:PUBLISH
CALSCALE:GREGORIAN
PRODID:-//Refresh Web Development//Helios Calendar//EN
X-FROM-URL:https://www.bayareascience.org/calendar/index.php?com=details&eID=33915
X-WR-RELCALID:BayAreaScience.org Extraterrestrial Helium-3: A new proxy for sea ice coverage and ice sheet melt rates 20230530T153000
X-WR-TIMEZONE:America/New_York
X-WR-CALNAME:BayAreaScience.org
BEGIN:VEVENT
URL;VALUE=URI:https://www.bayareascience.org/calendar/index.php?com=detail&eID=33915
DTSTART:20230530T153000
DTEND:20230530T153000
SUMMARY:Extraterrestrial Helium-3: A new proxy for sea ice coverage and ice sheet melt rates
DESCRIPTION:Speaker: Frankie Pavia\, CalTechÂ \n______________________________\nThis Event Downloaded From a Helios Calendar Powered Site
LOCATION:Natural Science Annex - UC Santa Cruz Room 101\, Santa Cruz\, CA  95064
CATEGORIES:BayAreaScience.org Events
PRIORITY:0
TRANSP:TRANSPARENT
END:VEVENT
END:VCALENDAR