BEGIN:VCALENDAR
VERSION:2.0
METHOD:PUBLISH
CALSCALE:GREGORIAN
PRODID:-//Refresh Web Development//Helios Calendar//EN
X-FROM-URL:https://www.bayareascience.org/calendar/index.php?com=details&eID=33921
X-WR-RELCALID:BayAreaScience.org lluminating Spatiotemporal Variations of Shallow Fault Creep from Satellite Geodesy: A closer look at the San Francisco Bay Area 20230505T120000
X-WR-TIMEZONE:America/New_York
X-WR-CALNAME:BayAreaScience.org
BEGIN:VEVENT
URL;VALUE=URI:https://www.bayareascience.org/calendar/index.php?com=detail&eID=33921
DTSTART:20230505T120000
DTEND:20230505T120000
SUMMARY:lluminating Spatiotemporal Variations of Shallow Fault Creep from Satellite Geodesy: A closer look at the San Francisco Bay Area
DESCRIPTION:Speaker: Yuexin Li\, CalTech\n______________________________\nThis Event Downloaded From a Helios Calendar Powered Site
LOCATION:Earth and Marine Sciences Building - UC Santa Cruz Room A340\, Santa Cruz\, CA  95064
CATEGORIES:BayAreaScience.org Events
PRIORITY:0
TRANSP:TRANSPARENT
END:VEVENT
END:VCALENDAR