BEGIN:VCALENDAR
VERSION:2.0
METHOD:PUBLISH
CALSCALE:GREGORIAN
PRODID:-//Refresh Web Development//Helios Calendar//EN
X-FROM-URL:https://www.bayareascience.org/calendar/index.php?com=details&eID=33928
X-WR-RELCALID:BayAreaScience.org 5th Annual Data Science Forum 2023: Tech for Social Good 20230416T110000
X-WR-TIMEZONE:America/New_York
X-WR-CALNAME:BayAreaScience.org
BEGIN:VEVENT
URL;VALUE=URI:https://www.bayareascience.org/calendar/index.php?com=detail&eID=33928
DTSTART:20230416T110000
DTEND:20230416T163000
SUMMARY:5th Annual Data Science Forum 2023: Tech for Social Good
DESCRIPTION:The Data Science Forum is the largest data science-related event at UC Berkeley. It is an annual all-day career-driven event hosted by the Data Science Society at Berkeley\, SAAS\, and Big Data...\n______________________________\nThis Event Downloaded From a Helios Calendar Powered Site
LOCATION:Dwinelle Hall - UC Berkeley Room 145\, Berkeley\, CA  94720
CATEGORIES:BayAreaScience.org Events
PRIORITY:0
TRANSP:TRANSPARENT
END:VEVENT
END:VCALENDAR