BEGIN:VCALENDAR
VERSION:2.0
METHOD:PUBLISH
CALSCALE:GREGORIAN
PRODID:-//Refresh Web Development//Helios Calendar//EN
X-FROM-URL:https://www.bayareascience.org/calendar/index.php?com=details&eID=33929
X-WR-RELCALID:BayAreaScience.org Landscape Is Homeland Festival 20230422T100000
X-WR-TIMEZONE:America/New_York
X-WR-CALNAME:BayAreaScience.org
BEGIN:VEVENT
URL;VALUE=URI:https://www.bayareascience.org/calendar/index.php?com=detail&eID=33929
DTSTART:20230422T100000
DTEND:20230422T170000
SUMMARY:Landscape Is Homeland Festival
DESCRIPTION:This Earth Day weekend\, come together for a day of celebration and programming presented in partnership with the Association of Ramaytush Ohlone and the American Indian Cultural District. Join...\n______________________________\nThis Event Downloaded From a Helios Calendar Powered Site
LOCATION:ExplOratorium - Pier 15 (Embarcadero at Green Street)  \, San Francisco\, CA USA 94111
CATEGORIES:BayAreaScience.org Events
PRIORITY:0
TRANSP:TRANSPARENT
END:VEVENT
END:VCALENDAR