BEGIN:VCALENDAR
VERSION:2.0
METHOD:PUBLISH
CALSCALE:GREGORIAN
PRODID:-//Refresh Web Development//Helios Calendar//EN
X-FROM-URL:https://www.bayareascience.org/calendar/index.php?com=details&eID=33935
X-WR-RELCALID:BayAreaScience.org  NightLife: Feel the Force 20230504T180000
X-WR-TIMEZONE:America/New_York
X-WR-CALNAME:BayAreaScience.org
BEGIN:VEVENT
URL;VALUE=URI:https://www.bayareascience.org/calendar/index.php?com=detail&eID=33935
DTSTART:20230504T180000
DTEND:20230504T220000
SUMMARY: NightLife: Feel the Force
DESCRIPTION:The force is strong with this NightLife.You have been invited on a mission to party like a rebel in a galaxy not-so far\, far away. Gather the droids\, alert the Jedis\, load up your X-wing\,...\n______________________________\nThis Event Downloaded From a Helios Calendar Powered Site
LOCATION:California Academy of Sciences - 55 Music Concourse Dr. \, San Francisco\, CA USA 94118
CATEGORIES:BayAreaScience.org Events
PRIORITY:0
TRANSP:TRANSPARENT
END:VEVENT
END:VCALENDAR