BEGIN:VCALENDAR
VERSION:2.0
METHOD:PUBLISH
CALSCALE:GREGORIAN
PRODID:-//Refresh Web Development//Helios Calendar//EN
X-FROM-URL:https://www.bayareascience.org/calendar/index.php?com=details&eID=33937
X-WR-RELCALID:BayAreaScience.org Educator Workshop: Unstable Table (K-5) - Livestream 20230427T153000
X-WR-TIMEZONE:America/New_York
X-WR-CALNAME:BayAreaScience.org
BEGIN:VEVENT
URL;VALUE=URI:https://www.bayareascience.org/calendar/index.php?com=detail&eID=33937
DTSTART:20230427T153000
DTEND:20230427T164500
SUMMARY:Educator Workshop: Unstable Table (K-5) - Livestream
DESCRIPTION:Build your own Unstable Table! Experience a classic Exploratorium tinkering project\, then bring it back to your classroom. In this activity\, tinker with objects on a platform to figure out how...\n______________________________\nThis Event Downloaded From a Helios Calendar Powered Site
LOCATION:ExplOratorium -  \, \, CA  
CATEGORIES:BayAreaScience.org Events
PRIORITY:0
TRANSP:TRANSPARENT
END:VEVENT
END:VCALENDAR