BEGIN:VCALENDAR
VERSION:2.0
METHOD:PUBLISH
CALSCALE:GREGORIAN
PRODID:-//Refresh Web Development//Helios Calendar//EN
X-FROM-URL:https://www.bayareascience.org/calendar/index.php?com=details&eID=33945
X-WR-RELCALID:BayAreaScience.org Wildfire Modeling: Challenges, Progress, and Opportunities 20230417T123000
X-WR-TIMEZONE:America/New_York
X-WR-CALNAME:BayAreaScience.org
BEGIN:VEVENT
URL;VALUE=URI:https://www.bayareascience.org/calendar/index.php?com=detail&eID=33945
DTSTART:20230417T123000
DTEND:20230417T133000
SUMMARY:Wildfire Modeling: Challenges\, Progress\, and Opportunities
DESCRIPTION:Wildfires are a significant part of the global fire safety problem. Each year they burn millions of acres of land\, lead to loss of life\, and cause billions of dollars in damages. Just in the U.S....\n______________________________\nThis Event Downloaded From a Helios Calendar Powered Site
LOCATION:Environment and Energy Building (Y2E2) - Stanford University Room 111\, Stanford\, CA  94305
CATEGORIES:BayAreaScience.org Events
PRIORITY:0
TRANSP:TRANSPARENT
END:VEVENT
END:VCALENDAR