BEGIN:VCALENDAR
VERSION:2.0
METHOD:PUBLISH
CALSCALE:GREGORIAN
PRODID:-//Refresh Web Development//Helios Calendar//EN
X-FROM-URL:https://www.bayareascience.org/calendar/index.php?com=details&eID=33951
X-WR-RELCALID:BayAreaScience.org International Dark Sky Week event 20230419T180000
X-WR-TIMEZONE:America/New_York
X-WR-CALNAME:BayAreaScience.org
BEGIN:VEVENT
URL;VALUE=URI:https://www.bayareascience.org/calendar/index.php?com=detail&eID=33951
DTSTART:20230419T180000
DTEND:20230419T180000
SUMMARY:International Dark Sky Week event
DESCRIPTION:What is light polution? How you can help. Why it matters.Featuring Don Jolley: "The Ground Overhead and the Stars Underfoot"\n______________________________\nThis Event Downloaded From a Helios Calendar Powered Site
LOCATION:Dance Palace - 503 B Street \, Point Reyes Station\, CA  94956
CATEGORIES:BayAreaScience.org Events
PRIORITY:0
TRANSP:TRANSPARENT
END:VEVENT
END:VCALENDAR