BEGIN:VCALENDAR
VERSION:2.0
METHOD:PUBLISH
CALSCALE:GREGORIAN
PRODID:-//Refresh Web Development//Helios Calendar//EN
X-FROM-URL:https://www.bayareascience.org/calendar/index.php?com=details&eID=33953
X-WR-RELCALID:BayAreaScience.org  Biomedical scientists making their mark in clinical research: Experience on a journey without a map - Livestream 20230520T103000
X-WR-TIMEZONE:America/New_York
X-WR-CALNAME:BayAreaScience.org
BEGIN:VEVENT
URL;VALUE=URI:https://www.bayareascience.org/calendar/index.php?com=detail&eID=33953
DTSTART:20230520T103000
DTEND:20230520T120000
SUMMARY: Biomedical scientists making their mark in clinical research: Experience on a journey without a map - Livestream
DESCRIPTION:Life is full of challenges at...\n______________________________\nThis Event Downloaded From a Helios Calendar Powered Site
LOCATION:California Section American Chemical Society -  \, \, CA  
CATEGORIES:BayAreaScience.org Events
PRIORITY:0
TRANSP:TRANSPARENT
END:VEVENT
END:VCALENDAR